BEGIN:VCALENDAR
VERSION:2.0
PRODID:-//Offizielle Seite der Regionalgruppe Schleswig-Holstein des LCD e.V. - ECPv6.15.20//NONSGML v1.0//EN
CALSCALE:GREGORIAN
METHOD:PUBLISH
X-ORIGINAL-URL:https://regio-sh.lcd-labrador.de
X-WR-CALDESC:Veranstaltungen für Offizielle Seite der Regionalgruppe Schleswig-Holstein des LCD e.V.
REFRESH-INTERVAL;VALUE=DURATION:PT1H
X-Robots-Tag:noindex
X-PUBLISHED-TTL:PT1H
BEGIN:VTIMEZONE
TZID:UTC
BEGIN:STANDARD
TZOFFSETFROM:+0000
TZOFFSETTO:+0000
TZNAME:UTC
DTSTART:20250101T000000
END:STANDARD
END:VTIMEZONE
BEGIN:VTIMEZONE
TZID:Europe/Berlin
BEGIN:DAYLIGHT
TZOFFSETFROM:+0100
TZOFFSETTO:+0200
TZNAME:CEST
DTSTART:20250330T010000
END:DAYLIGHT
BEGIN:STANDARD
TZOFFSETFROM:+0200
TZOFFSETTO:+0100
TZNAME:CET
DTSTART:20251026T010000
END:STANDARD
BEGIN:DAYLIGHT
TZOFFSETFROM:+0100
TZOFFSETTO:+0200
TZNAME:CEST
DTSTART:20260329T010000
END:DAYLIGHT
BEGIN:STANDARD
TZOFFSETFROM:+0200
TZOFFSETTO:+0100
TZNAME:CET
DTSTART:20261025T010000
END:STANDARD
BEGIN:DAYLIGHT
TZOFFSETFROM:+0100
TZOFFSETTO:+0200
TZNAME:CEST
DTSTART:20270328T010000
END:DAYLIGHT
BEGIN:STANDARD
TZOFFSETFROM:+0200
TZOFFSETTO:+0100
TZNAME:CET
DTSTART:20271031T010000
END:STANDARD
END:VTIMEZONE
BEGIN:VEVENT
DTSTART;VALUE=DATE:20260517
DTEND;VALUE=DATE:20260518
DTSTAMP:20260424T141818
CREATED:20260216T144533Z
LAST-MODIFIED:20260216T144533Z
UID:534-1778976000-1779062399@regio-sh.lcd-labrador.de
SUMMARY:Photosession am 17.05.2026
DESCRIPTION:Am Sonntag\, 17.05.2026\, findet eine weitere Photosession mit der \nTier-/Fotografin Sandra Lindemeier statt. \nOrt: 24111 Kiel-Russee \nGebühr: 40 Euro pro Teilnehmer und Hund \nFür jeden Teilnehmer stehen ca. 20-30 Minuten zur Verfügung\, \nincl. 10 Bilder zum Download\, weitere Bilder werden gesondert berechnet. \n50 Euro bei der Teilnahme mit 2 Hunden \nAnzahl Teilnehmer: mind. 6\, max. 10 \nTermine ab 10.00 Uhr im halbstündlichen Abstand \nWeitere Infos und Meldungen zur Teilnahme bitte an Marita Szillus\, Tel.: 0175/9782546 \noder per eMail an marita@faithfulconnection.de
URL:https://regio-sh.lcd-labrador.de/termin/photosession-am-17-05-2026/
CATEGORIES:Seminare
ATTACH;FMTTYPE=image/jpeg:https://regio-sh.lcd-labrador.de/wp-content/uploads/2026/02/Lisa-Filou-2025-04-27.jpg
END:VEVENT
BEGIN:VEVENT
DTSTART;TZID=Europe/Berlin:20260528T183000
DTEND;TZID=Europe/Berlin:20260528T220000
DTSTAMP:20260424T141818
CREATED:20260122T151402Z
LAST-MODIFIED:20260122T152738Z
UID:517-1779993000-1780005600@regio-sh.lcd-labrador.de
SUMMARY:Mitgliederversammlung am 28.05.2026
DESCRIPTION:Einladung zur Mitgliederversammlung \nder Regionalgruppe Schleswig-Holstein LCD e.V. \nPostleitzahlenbereich 23\, 24 und 25 \nam Donnerstag\, 28.05.2026\, um 18.30 Uhr \nim „Gusto Di Mamma“\, Perserau 1\, 24217 Schönberg \nTagesordnung \n\nBegrüßung\nWahl des Protokollführers\nGenehmigung der Tagesordnung\nGenehmigung des Protokolls zur MV am 26.03.2025\nBericht des Vorstands – 1.Vorsitzende – Kassenwart\nBericht der Kassenprüfung\nEntlastung des Vorstands\nPlanungen für das laufende Jahr 2026\nVerschiedenes\n\nAnträge zur Mitgliederversammlung sind bis zum 14.05.2026 in schriftlicher Form an die 1. Vorsitzende zu stellen. \nWir bitten für die Planung und Tischreservierung um vorherige Anmeldung unter \nmarita@faithfulconnection.de oder 0175/9782546. \nInteressierte Mitglieder und Freunde der Regionalgruppe S.-H. des LCD e.V. \nsind herzlich eingeladen. \n 
URL:https://regio-sh.lcd-labrador.de/termin/mitgliederversammlung-am-02-06-2026/
CATEGORIES:Mitgliederversammlung
END:VEVENT
BEGIN:VEVENT
DTSTART;VALUE=DATE:20260620
DTEND;VALUE=DATE:20260621
DTSTAMP:20260424T141818
CREATED:20260216T145144Z
LAST-MODIFIED:20260216T145144Z
UID:537-1781913600-1781999999@regio-sh.lcd-labrador.de
SUMMARY:Wesenstest 20.06.2026 in 23898 Sierksfelde
DESCRIPTION:Richterin: Simone Wegner \nSL: Rieke Johanna Bublitz\nKalkkuhle 9\, 23898 Sirksfelde\nRiekeHarms@gmx.de\n0176/81210994 \nBitte ausschließlich online-Meldungen über die Seite des LCD
URL:https://regio-sh.lcd-labrador.de/termin/wesenstest-20-06-2026-in-23898-sierksfelde/
CATEGORIES:Wesenstest
END:VEVENT
BEGIN:VEVENT
DTSTART;VALUE=DATE:20260620
DTEND;VALUE=DATE:20260621
DTSTAMP:20260424T141818
CREATED:20260216T145626Z
LAST-MODIFIED:20260216T145626Z
UID:541-1781913600-1781999999@regio-sh.lcd-labrador.de
SUMMARY:Formwert in 23898 Sierksfelde
DESCRIPTION:Richterin: Gisela Werner \nSL: Britta Lantz\nKalkkuhle 9\n23898 Sirksfelde\nTel. 0173 2352559\ninfo@brittalantz.de \nBitte ausschließlich online-Meldungen über die Seite des LCD
URL:https://regio-sh.lcd-labrador.de/termin/formwert-in-23898-sierksfelde/
CATEGORIES:Formwert
END:VEVENT
BEGIN:VEVENT
DTSTART;VALUE=DATE:20260621
DTEND;VALUE=DATE:20260622
DTSTAMP:20260424T141818
CREATED:20260216T145251Z
LAST-MODIFIED:20260216T145251Z
UID:539-1782000000-1782086399@regio-sh.lcd-labrador.de
SUMMARY:Wesenstest 21.06.2026 in 23898 Sierksfelde
DESCRIPTION:Richterin: Simone Wegner \nSL: Rieke Johanna Bublitz\nKalkkuhle 9\, 23898 Sirksfelde\nRiekeHarms@gmx.de\n0176/81210994 \nBitte ausschließlich online-Meldungen über die Seite des LCD
URL:https://regio-sh.lcd-labrador.de/termin/wesenstest-21-06-2026-in-23898-sierksfelde/
CATEGORIES:Wesenstest
END:VEVENT
END:VCALENDAR